Workbook

Sheet DMA 8.1,8.
G1: काठमाण्डौ उपत्यका खानेपानी लिमिटेड
H2: ललितपुर शाखा कार्यालय
G3: मेलम्चीको नया लाईनबाट वितरण हुने पानीको तालिका
H4: २०८३ असोज महिना
A5: DMA | B5: पानी वितरण हुने स्थान | I5: पानी वितरण हुने दिन(गते) | L5: वितरण समय | O5: सम्पर्क व्यक्ति
A6: DMA 8.1 | B6: भनिमंडल,शान्तिमार्ग,चिडियाखाना वरपर,एकान्तकुना मार्ग,सरस्वती मन्दिर.उज्यालो एफ.एम,जावलाखेल वरपर क्षेत्र | I6: ६,१२,१८,२४,३० | L6: बिहान ७:०० देखि १०:००सम्म
B7: बखुन्डोल,कुटुम्ब होटल,अमरसिस स्कुल,भटराई मार्ग वरपर क्षेत्र
B8: कान्देवता स्थान,कुपन्डोल.गुशिंगाल पुलसम्म,तिन्खाम्बा मार्ग र WHO Office | L8: बिहान ७:०० देखि ९:००सम्म
B9: ढोकाडोल | L9: बिहान ८:०० देखि ११:३०सम्म
B10: क्याम्पेन् कलेज | L10: बिहान ९:०० देखि १०:००सम्म
B11: हनुमान थान,नाइटेगल स्कुल,नागार्जुन स्कुल,भजन मण्डल.बिग मार्ट,सर्वानग हस्पिटल | L11: बिहान ९:०० देखि ११:००सम्म
B12: कुमारी गल्ली | L12: बिहान १०:०० देखि ११:००सम्म
B13: लिलाघर,लिला मार्ग र साउदी एम्बेशी | L13: बिहान ११:०० देखि १२:००सम्म | O13: १.राजु देवकोटा
B14: गुशिंगाल चोक,संकटा मार्ग,दराज सम्म | L14: बिहान ११:३० देखि दिउसो १:००सम्म | O14: 9849186565
B15: डल्ले रेस्टुरेन्टको तल,पंचाकुमारी मन्दिरपश्चिम(तल/माथि आलोपालो) | L15: दिउसो १२:०० देखि २:०० सम्म | O15: २. ई.लोकेश ठाकुर
B16: बुद् एयर,सेन्ट मेरिज,खानेपानी अफिस,दमकल मार्ग | L16: दिउसो १२:०० देखि ४:०० सम्म | O16: 9845610162
B17: कवाडी माथि,डल्ले रेस्टुरेन्टको पारी | L17: दिउसो २:०० देखि ४:०० सम्म | O17: ३. धनन्जय कुमार हाथी
B18: अजिमा मन्दिर,सानेपा खरिबोट,कुन्तुहीटी मार्ग,पंचाकुमारी मन्दिर तल माथि आलो पालो | L18: दिउसो २:०० देखि ५:०० सम्म | O18: 9840572259
B19: शान्ति बिहार मार्ग,राम मन्दिर,राजतिर्थ मार्ग ,दराज वरपर क्षेत्र | L19: दिउसो २:०० देखि बेलुका ६:०० सम्म
B20: झम्सिखेल, अरुण थापा मार्ग, सुमित होटेल, चौधरी ग्रुप, हेरिटेज पार्टी प्यालेस, किरण भवन मार्ग, ज्ञानोदय पुस्तकालय, टिका स्कुल, हास्पोता गणेश मार्ग, देवल मार्ग, सम्पदा स्कुल, वडा नं ३ वरपर,पुल्चोक,लाछी,हरिहर भवन,सुमेरु हस्पिटल,खल्ती अफिस,मलेसियन अम्ब्बेसी,वाग्देल | L20: दिउसो ४:०० देखि बेलुका ९:०० सम्म
B21: राधा कृष्ण मार्ग | L21: बेलुका ६:०० देखि ९:०० सम्म
B22: कान्तिपुर एफ.एम र वडा नं ३ कार्यालयको माथिलो भाग | L22: बेलुका ९:०० देखि ११:३० सम्म
A23: DMA 8.2 | B23: बिजयबस्ति, साँचल मार्ग, बागमती कोरिडोर, त्रिवेणी मार्ग, सिगाली मार्ग, यला मार्ग, कालोपुल, राजतिर्थ गल्लि, रेडियंट स्कुल, सगरमाथा कलेज, नया बाटो, बारुधखाना मार्ग, ठाडो ढुंगा, निलभावन ढुंगेधारा, धोबिघट, धोबिघट मार्ग, मनकामना मार्ग, दमकल चक्रपथ मार्ग, नया कोलोनी मार्ग पश्चिम, मेगा हस्पिटल एरिया, शान्तिकुना मार्ग, (आलोपालो मिलाएर ) | I23: १,७,१३,१९,२५,३१ | L23: राति १०:०० देखि बिहान ८:०० सम्म | O23: चा.चा.दीपक मगर९८०८७६२५५०)
B24: साचाल गणेश मन्दिर | I24: २,८,१४,२०,२६, | L24: बिहान ८:०० देखि १०:००सम्म | O24: २. ई.लोकेश ठाकुर
B25: कन्तुहिटि मार्ग, यु टर्न | L25: बिहान १०:०० देखि १२:००सम्म | O25: 9845610162
B26: सत्संग मार्ग | L26: दिउसो १२:०० देखि २:३०सम्म | O26: ३. धनन्जय कुमार हाथी
B27: कालिका मन्दिर मार्ग, मनमोहन प्रतिष्ठान मार्ग | L27: दिउसो २:३० देखि बेलुका ५:००सम्म | O27: 9840572259
B28: कालिका मन्दिर मार्ग, एभेरेस्ट कलेज | L28: बेलुका ५ :०० देखि ११:०० सम्म
A29: द्रष्टव्य:
A30: 1 | B30: मेलम्चीबाट आउने पानीको मात्रामा कमी भएमा सोहीअनुसार माथि दिएको समय हेरफेर हुन सक्नेछ ।
A31: 2 | B31: वर्षाका कारण पानीको आपूर्ति बन्द भएमा पानीको वितरण हुने छैन ।
A32: 3 | B32: आफ्नो स्थान उल्लेख नभएकोमा नजिक स्थानलाई आधार मान्न हुन अनुरोध गरिन्छ ।

Sheet DMA 5 and 6
A1: काठमाण्डौ उपत्यका खानेपानी लिमिटेड
A2: ललितपुर शाखा कार्यालय
A3: मेलम्चीको नया लाईनबाट वितरण हुने पानीको तालिका
A4: २०८३ असोज महिना
A6: DMA | B6: पानी वितरण हुने स्थान | C6: समय | D6: गते | E6: सम्पर्क व्यक्ति | F6: सम्पर्क नम्बर
A7: 5.1 | B7: ग्वार्को देखि बालकुमारी, त्यागल, सिन्पा मार्ग, सरस्वती मार्ग, कसुम वरपर, गुइटा, क्वार्को, च्यासल मार्ग, चपट टोल (आलोपालो मिलाएर) | C7: बेलुका ८ बजे देखि भोलिपल्ट बिहान ५ बजे सम्म | D7: २, ८, १४, २०, २६ | E7: इ. सुरज खनाल स.प्रा.अ निवास गुरागाईं ओ.सी रोशन शर्मा | F7: ९७६७२३७६३८ ९८५२०५४२४४ ९८६४४३४९०३
A8: 5.2 | B8: नाग बहाल,छाया बहाल,छा बहाल,गाबहाल,पाटन ढोका,पूल्चोक,चाकुपट,शंखमूल,मणि मार्ग,ज्वागल,दरवार टोल (आलोपालो मिलाएर) | C8: बेलुका ८ बजे देखि भोलिपल्ट बिहान ५ बजे सम्म | D8: ३, ९, १५, २१, २७ | E8: इ. सुरज खनाल स.प्रा.अ निवास गुरागाईं ओ.सी रोशन शर्मा | F8: ९७६७२३७६३८ ९८५२०५४२४४ ९८६४४३४९०३ | G8: ३,७,११,१५,१९,२३,२७
A9: 6.1 | B9: सातदोबाटो, रिन्ङरोड भित्र, माटीमार्ग, नरविनायक मार्ग, ताल्छिखेल–,महालक्ष्मी मार्ग, लखनखेल अशोक स्तुपा एरिया, सिंचाहिटी, दिपावली मार्ग, थापा गल्ली, ज्याठा मार्ग, कूमा गल्ली, कनिवहाल (आलोपालो मिलाएर) | C9: बेलुका ७ बजे देखि भोलिपल्ट बिहान ५ बजे सम्म | D9: ४, १०, १६, २२, २८ | E9: ईं सिकेन्द्र गोईत ई.रवीन्द्र यादव इ. सुरज खनाल स.प्रा.अ निवास गुरागाईं ओ.सी रोशन शर्मा | F9: 9801233255 9801233256 ९७६७२३७६३८ ९८५२०५४२४४ ९८६४४३४९०३ | G9: १,५,९,१३,१७,२१,२५,२९
B10: ओकूवाहाल,सुमन्गल गल्ली, सुन्धारा, गुजीबहाल
A11: 6.2 | B11: जावलाखेल,पुल्चोक, मछिन्द्र मार्ग,त्रिपद्म गल्ली | C11: बेलुका ५ बजे देखि ९ बजे सम्म | D11: ५, ११, १७, २३, २९ | E11: ईं सिकेन्द्र गोईत ई.रवीन्द्र यादव इ. सुरज खनाल स.प्रा.अ निवास गुरागाईं ओ.सी रोशन शर्मा | F11: 9801233255 9801233256 ९७६७२३७६३८ ९८५२०५४२४४ ९८६४४३४९०३
B12: थसीखेल मार्ग, दक्षिणकाली मार्ग, कुमारीमाटी, दामोदर मार्ग, , मानभवनपाटन हस्पिटल, सि.डि.ओ. कार्यालय वरिपरी,नःटोल, पूर्णचण्डी मार्ग,जावलाखेल,(आलोपालो मिलाएर) | C12: बेलुका ९ बजे देखि भोलिपल्ट बिहान ५ बजे सम्म | G12: ४,८,१२,१६,२०,२४,२८
A13: द्रष्टव्य:
A14: 1 | B14: मेलम्चीबाट आउने पानीको मात्रामा कमी भएमा सोहीअनुसार माथि दिएको समय हेरफेर हुन सक्नेछ ।
A15: 2 | B15: वर्षाका कारण पानीको आपूर्ति बन्द भएमा पानीको वितरण हुने छैन ।
A16: 3 | B16: आफ्नो स्थान उल्लेख नभएकोमा नजिक स्थानलाई आधार मान्न हुन अनुरोध गरिन्छ ।
A18: DMA | B18: पानी वितरण हुने स्थान | C18: समय | D18: गते | E18: सम्पर्क व्यक्ति | F18: सम्पर्क नम्बर
A19: 8.1 | B19: भानिमंडल, शान्ति मार्ग, चिडियाखाना वरपर, एकान्तकुना मार्ग, सरस्वति मन्दिर, बखुन्डोल ओरालो, बखुन्दोल गणेशमार्ग, कामदेव स्थान, हनुमानथान, Nightingale School, लिलाघर, कुपण्डोल Big Mart, अमर्सिस स्कुल | C19: बेलुका ६ बजे देखि बिहान ६ बजे सम्म | E19: राजु देवकोटा पवन सचिन | F19: 9849186565 9851019939
B20: ढोकाडोल | C20: बेलुका ७ बजे देखि बिहान ६ बजे सम्म
B21: गुसिन्गाल गल्लि, पंचाकुमारी मन्दिर पुल, संकटा मार्ग, | C21: बिहान ७ बजे देखि १० बजे सम्म
B22: बुद्ध एयर लाइन, सुमेरु हस्पिटल लाइन, वाग्देल मार्ग, बखुन्डोल मार्ग, टेंगी मार्ग, जाउलाखेल एरिया, दमकल चोक, शान्ति बिहार मार्ग, राम मन्दिर, दराज वरिपरी क्षेत्र, राजतिर्थ मार्ग | C22: बिहान १० बजे देखि दिउसो २ बजे सम्म
B23: कवाडी वरिपरी क्षेत्र, डल्ले रेस्टुरेन्ट क्षेत्र | C23: दिउसो ११ बजे देखि २ बजे सम्म
B24: पुलचोक वरपर क्षेत्र | C24: दिउसो १२ बजे देखि बेलुका ४ बजे सम्म
B25: सानेपा खरिबोट, अजिमा मन्दिर, कन्तुहिटिमार्ग ,पंचकुमारी मन्दिर | C25: बिहान ७ बजे देखि बिहान १० बजे सम्म
B26: झम्सिखेल, अरुण थापा मार्ग, सुमित होटेल, चौधरी ग्रुप, हेरिटेज पार्टी प्यालेस, किरण भवन मार्ग, ज्ञानोदय पुस्तकालय, टिका स्कुल, हास्पोता गणेश मार्ग, देवल मार्ग, सम्पदा स्कुल, वडा नं ३ वरपर | C26: दिउसो २ बजे देखि बेलुका ६ बजे सम्म
B27: कान्तिपूर एफ.एम एरिया | C27: बेलुका ६ बजे देखि ८ बजे सम्म
A28: 8.2 | B28: बिजयबस्ति, साँचल मार्ग, बागमती कोरिडोर, त्रिवेणी मार्ग, सिगाली मार्ग, यला मार्ग, कालोपुल, राजतिर्थ गल्लि, रेडियंट स्कुल, सगरमाथा कलेज, नया बाटो, बारुधखाना मार्ग, ठाडो ढुंगा, निलभावन ढुंगेधारा, धोबिघट, धोबिघट मार्ग, मनकामना मार्ग, दमकल चक्रपथ मार्ग, नया कोलोनी मार्ग पश्चिम, मेगा हस्पिटल एरिया, शान्तिकुना मार्ग, (आलोपालो मिलाएर ) | C28: बेलुका ६ बजे देखि बिहान ६ बजे सम्म | E28: चा.चा.दीपक मगर ओ.सी. धनन्जय कुमार हाथी स.प्रा.अ. निवास गुरागाई ई. सुरज खनाल | F28: ९८०८७६२५५० ९८४०५७२२५९ ९८५२०५४२४४ ९७६७२३७६३८
B29: कन्तुहिटि मार्ग, सत्संग मार्ग, यु टर्न | C29: बिहान ६ बजे देखि १० बजे सम्म
B30: कालिका मन्दिर मार्ग, मनमोहन प्रतिष्ठान मार्ग | C30: बिहान १० बजे देखि दिउसो २ बजे सम्म
B31: कालिका मन्दिर मार्ग, एभेरेस्ट कलेज | C31: दिउसो २ बजे देखि बेलुका ६ बजे सम्म
A32: द्रष्टव्य: | B32: मेलम्चीबाट आउने पानीको मात्रामा कमी भएमा सोहीअनुसार माथि दिएको समय हेरफेर हुन सक्नेछ ।
A33: 1 | B33: वर्षाका कारण पानीको आपूर्ति बन्द भएमा पानीको वितरण हुने छैन ।
A34: 2 | B34: आफ्नो स्थान उल्लेख नभएकोमा नजिक स्थानलाई आधार मान्न हुन अनुरोध गरिन्छ ।

Sheet DMA 8.1 8.2
A1: DMA | B1: पानी वितरण हुने स्थान | C1: पानी वितरण हुने दिन (गते) | D1: वितरण समय | E1: सम्पर्क व्यक्ति
A2: DMA 8.1 | B2: भानिमंडल, शान्तिमार्ग, चिडियाखाना वरपर, एकान्तकुना मार्ग, सरस्वति मन्दिर, उज्यालो एफ.एम, जावलाखेल वरपर क्षेत्र | C2: १, ७, १३, १९, २५, ३१ | D2: बिहान ७:०० देखि १०:०० बजे सम्म | E2: १. राजु देवकोटा ९८४९१८६५६५ ई.लोकेश ठाकुर ९८४५६१०१६२ धनन्जय कुमार हाथी: ९८४०५७२२५९
B3: बखुन्डोल, कुटुम्ब होटल, अमरसिस् स्कुल, भट्टराइ मार्ग वरपर क्षेत्र | D3: बिहान ७:०० देखि ११:०० बजे सम्म
B4: हनुमान थान, नाइँटेंगल स्कुल, नागार्जुन स्कुल, तिनखम्बा मार्ग, भजन मण्डल, बिग मार्ट, सर्वाङ्ग हस्पिटल, साउदी एम्ब्बेसी, | D4: बिहान ७:०० देखि १२:०० बजे सम्म
B5: कानदेवता स्थान, कुपण्डोल, गुसिंगाल पुलसम्म | D5: बिहान ७:०० देखि ९:०० बजे सम्म
B6: ढोकाडोल | D6: बिहान ८:०० देखि ११:०० बजे सम्म
B7: कुमारी गल्लि, | D7: बिहान ९:०० देखि १०:०० बजे सम्म
B8: लिलाघर, लिलामार्ग, | D8: बिहान १०:०० देखि ११:०० बजे सम्म
B9: गुसिंगाल चोक, संकटा मार्ग, दराज सम्म | D9: बिहान ११:०० देखि १२:३० बजे सम्म
B10: डल्ले रेस्टुरेन्टको तल, पंचाकुमारी मन्दिरको पश्चिम | D10: बिहान १२:३० देखि १:३० बजे सम्म
B11: अजिमा मन्दिर, सानेपा खरिबोट, कुन्तुहीटि मार्ग, पंचाकुमारी मन्दिर तल माथि आलो पालो | D11: बिहान १:०० देखि ४:०० बजे सम्म
B12: शान्ति बिहार मार्ग, राम मन्दिर, राजतिर्थ मार्ग, दराज वरपर क्षेत्र | D12: बिहान १:०० देखि ४:०० बजे सम्म
B13: बुद्ध एयर, सेन्ट मेरिज, खानेपानी अफिस दमकल मार्ग | D13: बिहान ११:०० देखि २:०० बजे सम्म
B14: कवाडी माथि डल्ले रेस्टुरेन्टको पारि | D14: दिउसो १:०० देखि ४:०० बजे सम्म
... B16: कान्तिपुर एफ.एम र वडा नं ३ कार्यालयको माथिल्लो भाग | D16: बेलुका ७:०० देखि १२:३० बजे सम्म
A17: DMA 8.2 | B17: विजयबस्ती, संचल मार्ग, बागमती कोरिडोर, त्रिवेणी मार्ग, सिगाली मार्ग, यला मार्ग, कालोपुल, राजतिर्थ गल्ली, रेडियन्ट स्कुल, सगरमाथा कलेज, नयाँ बाटो, बारुधखाना मार्ग, ठाडो डुङ्गा, निर भवन, ढुंगेधारा, धोबीघाट, धोबीघाट मार्ग, मनकामना मार्ग, दमकल चक्रपथ मार्ग, नयाँ कोलोनी मार्ग पश्चिम, मेगा होस्टल एरिया, शान्तिनगर मार्ग (आलोपालो मिलाएर) | C17: ३, ९, १५, २१, २७ | D17: बिहान ६:०० देखि देउसो १२:०० बजे सम्म | E17: दिपक थापा: ९८०८७६२५५० धनन्जय कुमार हाथी: ९८४०५७२२५९ ई.लोकेश ठाकुर ९८४५६१०१६२
B18: कुन्तुहिटि मार्ग, सत्संग मार्ग, यु टर्न | D18: दिउसो १२:०० देखि ३:०० बजे सम्म
B19: कालिका मन्दिर मार्ग, मनमोहन प्रतिष्ठान मार्ग | D19: दिउसो ३:०० देखि बेलुका ५:०० सम्म
B20: कालिका मन्दिर मार्ग, एभेरेस्ट कलेज | D20: बेलुका ५:०० देखि १२:३० बजे सम्म

Sheet old line (Kiran)
A1: काठमाण्डौ उपत्यका खानेपानी लिमिटेड
A2: ललितपूर शाखा कार्यालय
A3: खूमलटार SRT बाट पुरानो लाईनमा खानेपानी वितरण हूने तालिका
A4: ='DMA 5 and 6'!A4 -> २०८३ असोज महिना
A5: सि.नं. | B5: चाबी चालक | C5: सम्पर्क नं. | D5: समय | F5: पानी वितरण हूने क्षेत्रहरु | G5: गते
D6: खोल्ने समय | E6: बन्द गर्ने समय
A7: 1 | B7: चा.चा.टंक निरौला ओ.सि. धनन्जय कूमार हाथी (८”) | C7: 9849809155 9840572259 | D7: विहान ११:०० बजे | E7: दिउसो २:०० बजे | F7: चाँपागाँउ दोबाटो, टूटेपानी, ताल्छिखेल | G7: ४,११,१८,२५
B8: चा.चा. टंकनाथ निरौला | C8: 9849809155 | D8: विहान ८:०० बजे | E8: विहान ११:०० बजे | F8: चाँपागाँउ दोबाटो, टूटेपानी, ताल्छिखेल | G8: ६, १२, १८, २४, ३० | H8: १,५,९,१३,१७,२१,२५,२९
A9: 2 | B9: चा.चा.किरण महर्जन (८”) | C9: 9841904106 | D9: विहान ६:०० बजे | E9: बेलुका ५:०० बजे आलोपालो मिलाएर ४५ मिनेट | F9: सातदोबाटो, खूमलहाईट, हात्तिवन, प्रिमियर स्कुल, बि.एण्ड.बि.बलेज,जय श्रीराम टोल, काली मार्ग, गैरी मार्ग, सिभिल होम्स | G9: ३, ९, १५, २१, २७
F10: बोधिग्राम, बोधिग्राम नयाँ लाईन, सुर्यविनायक
F11: शिवनगर
F12: अस्थानगर
F13: मनिप्लान्ट, ग्वार्को हात्तिबन मार्ग , सिटिस्केप
A14: 3 | B14: चा.चा.किरण महर्जन (८”) | C14: 9841904106 | D14: विहान ६:०० बजे | E14: बेलुका ५:०० बजे आलोपालो मिलाएर ४५ मिनेट | F14: भेल्पा दक्षिण | G14: ४, १०, १६, २२, २८ | H14: २,६,१०,१४,१८,२२,२६,३०
F15: भल्पा नयाँ लाईन उत्तर
F16: भेल्पा पूरानो लाइन, भेल्पा नयाँ लाईन पूर्व
F17: शसि दिदीको लाइन
F18: ग्वार्को बजार नयाँ लाइन
F19: सि.डि.ओ.लाईन
A20: 3 | B20: चा.चा.किरण महर्जन (८”) | C20: 9841904106 | D20: विहान ६:०० बजे | E20: बेलुका ५:०० बजे आलोपालो मिलाएर ४५ मिनेट | F20: ग्वार्को, वाफल, KCM, महल ब्यान्क्वेट, पुरानो गुण हल लाईन, हरित कोलोनी ,पाको महादेव मार्ग, बालकुमारी, म्यखुमार्ग | G20: ५, ११, १७, २३, २९
H22: ४,८,१२,१६,२०,२४,२८
A24: पानी वितरण सँग सम्बन्धित अन्य गुनासोको लागि सम्पर्क व्यक्ति : ई. सुरज खनाल(९७६७२३७६३८), स.प्रा.अ निवास गुरागाईं (९८५२०५४२४४), ओ.सी रोशन शर्मा (९८६४४३४९०३)

Sheet old line 3 bikram
A1: काठमाण्डौ उपत्यका खानेपानी लिमिटेड
A2: ललितपूर शाखा कार्यालय
A3: खूमलटार SRT बाट पुरानो लाईनमा खानेपानी वितरण हूने तालिका
A4: ='DMA 5 and 6'!A4 -> २०८३ असोज महिना
A5: सि.नं. | B5: चाबी चालक | C5: समय | E5: पानी वितरण हूने क्षेत्रहरु | F5: गते
C6: खोल्ने समय | D6: बन्द गर्ने समय
A7: 1 | B7: चा.चा.राजेन्द्र श्रेष्ठ प.अ.मधुकर विष्ट सू.भा.महेन्द्र काजी महर्जन (१२”) | C7: विहान ६:०० बजे | D7: राती ८:०० बजे आलोपालो मिलाएर १ घण्टा | E7: सर्वाङ्ग हस्पिटल, सेतू देवल | F7: 5,9,13,17,21,25,29
E8: ढूकूटी चोक, ज्वागल, वाग्मती तर्फ
E9: पूरानो कर कार्यालय, म्याक्स मिडिया
E10: पाटनढोका बजार भित्र, अशोक हल तर्फ
E11: गणेश मंदिर, ललितपूर ईन्जिनियरिé कलेज
E12: गःछे ८” महापाल चोक सम्म
E13: गःछे २” रोड बहिर, नेपाल बैंक, सनराईज बैंक, गावाहाल
E14: तूम्वाहाल बाट भेलाछें, गावहाल चोक, कायाननी गल्ली
B15: चा.चा.टंक निरौला ओ.सि. धनन्जय कूमार हाथी (८”) | C15: विहान ११:०० बजे | D15: दिउसो २:०० बजे | E15: चाँपागाँउ दोबाटो, टूटेपानी, ताल्छिखेल | F15: ४,११,१८,२५
B16: चा.चा.रमेश अधिकारी सू.भा.महेन्द्र काजी महर्जन (१२”र२०”) | C16: दिउसो ३:०० बजे | D16: बेलुका ६:०० बजे | E16: नःटोल व्यापार पवर्धन जाने बाटो, नःटोल, त्रिपद्म वरपर | F16: ७,१४,२१,२८
C17: विहान 10:०० बजे | D17: दिउसो 1:०० बजे | E17: पूल्चोक कान्तिपुर FM Area | F17: ३,१०,१७,२४,३१
A18: 1 | B18: जीवन माझि ९८६१६६६८२९ बिक्रम राउत ९८५१३१२२४४ | C18: बिहान ६:३० | D18: बिहान ८:०० | E18: पार्टी कार्यालय | F18: ३,११,१९,२७
C19: =D18 -> बिहान ८:०० | D19: बिहान ९:३० | E19: वडा नं २ कार्यालय तल
C20: =D19 -> बिहान ९:३० | D20: बिहान ११:०० | E20: मगर गाउँ | G20: ३,७,११,१५,१९,२३,२७
C21: =D20 -> बिहान ११:०० | D21: दिउसो १२:३० | E21: मगर गाउँ गल्लि १
C22: =D21 -> दिउसो १२:३० | D22: दिउसो २:०० | E22: मगर गाउँ गल्लि २
C23: =D22 -> दिउसो २:०० | D23: दिउसो ३:३० | E23: कापी कारखाना (इन्द्रेणी हाइट)
C24: =D23 -> दिउसो ३:३० | D24: बेलुका ५:०० | E24: ढुंगा छापेको २
A25: 2 | C25: बिहान ६:३० | D25: बिहान ९:३० | E25: ठाडो लाइन (संहिटि, बस्नेत गाउँ, मल्पोखरी गेट) | F25: ७,१५,२३,31
C26: =D25 -> बिहान ९:३० | D26: बिहान ११:३० | E26: संगम बस्ति, गंगटे कुलो,
C27: =D26 -> बिहान ११:३० | D27: दिउसो १:०० | E27: नया बाटो (परिबोध लाइन)
C28: =D27 -> दिउसो १:०० | D28: दिउसो २:३० | E28: मन्दिर आगाडी, बाउचा लाइन
C29: =D28 -> दिउसो २:३० | D29: बेलुका ४:०० | E29: मन्दिर तल, मैया लाइन, ढुंगा छापेको १
C30: =D29 -> बेलुका ४:०० | D30: बेलुका ५:३० | E30: किरणको लाइन, भण्डारीको लाइन

Sheet old line (Kiran) फुल फ्लोव
A1: काठमाण्डौ उपत्यका खानेपानी लिमिटेड
A2: ललितपूर शाखा कार्यालय
A3: खूमलटार SRT बाट पुरानो लाईनमा खानेपानी वितरण हूने तालिका
A4: ='DMA 5 and 6'!A4 -> २०८३ असोज महिना
A5: सि.नं. | B5: चाबी चालक | C5: सम्पर्क नं. | D5: समय | F5: पानी वितरण हूने क्षेत्रहरु | G5: गते
D6: खोल्ने समय | E6: बन्द गर्ने समय
A7: 1 | B7: चा.चा.टंक निरौला ओ.सि. धनन्जय कूमार हाथी (८”) | C7: 9849809155 9840572259 | D7: विहान ११:०० बजे | E7: दिउसो २:०० बजे | F7: चाँपागाँउ दोबाटो, टूटेपानी, ताल्छिखेल | G7: ४,११,१८,२५
B8: चा.चा. टंकनाथ निरौला | C8: 9849809155 | D8: बेलुका ६:०० बजे | E8: राती ११:०० बजे | F8: चाँपागाँउ दोबाटो, टूटेपानी, ताल्छिखेल | G8: ३,७,११,१५,१९,२३,२७ | H8: १,५,९,१३,१७,२१,२५,२९
A9: 2 | B9: चा.चा.किरण महर्जन (८”) | C9: 9841904106 | D9: विहान ५:०० बजे | E9: दिउसो २:०० बजे | F9: सातदोबाटो, खूमलहाईट, हात्तिवन, प्रिमियर स्कुल, बि.एण्ड.बि.बलेज,जय श्रीराम टोल, काली मार्ग, गैरी मार्ग, सिभिल होम्स | G9: ४,८,१२,१६,२०,२४,२८
D10: विहान ८:०० बजे | E10: विहान ९:०० बजे | F10: बोधिग्राम, बोधिग्राम नयाँ लाईन, सुर्यविनायक
D11: विहान ५:०० बजे | E11: राती ७:०० बजे आलोपालो मिलाएर १ घण्टा | F11: शिवनगर
F12: अस्थानगर
F13: मनिप्लान्ट, ग्वार्को हात्तिबन मार्ग , सिटिस्केप
B14: चा.चा.किरण महर्जन (८”) | C14: 9841904106 | D14: विहान ५:०० बजे | E14: बेलुका ६:०० बजे आलोपालो मिलाएर १ घण्टा | F14: भेल्पा दक्षिण | G14: ३,७,११,१५,१९,२३,२७ | H14: २,६,१०,१४,१८,२२,२६,३०
F15: भल्पा नयाँ लाईन उत्तर
F16: भेल्पा पूरानो लाइन, भेल्पा नयाँ लाईन पूर्व
F17: शसि दिदीको लाइन
F18: ग्वार्को बजार नयाँ लाइन
F19: सि.डि.ओ.लाईन
A20: 3 | B20: चा.चा.किरण महर्जन (८”) | C20: 9841904106 | D20: विहान ५:०० बजे | E20: बेलुकी ८:०० बजे आलोपालो मिलाएर १ घण्टा | F20: ग्वार्को, वाफल, KCM, महल ब्यान्क्वेट, पुरानो गुण हल लाईन, हरित कोलोनी ,पाको महादेव मार्ग, बालकुमारी, म्यखुमार्ग | G20: १,५,९,१३,१७,२१,२५,२९
H22: ४,८,१२,१६,२०,२४,२८

Sheet tanka full flow
A1: काठमाण्डौ उपत्यका खानेपानी लिमिटेड
A2: ललितपुर शाखा कार्यालय
A3: खूमलटार SRT बाट खानेपानी वितरण हूने तालिका
A4: ='DMA 5 and 6'!A4 -> २०८३ असोज महिना
A5: सि.नं. | B5: चाबी चालक | C5: सम्पर्क नं. | D5: समय | F5: पानी वितरण हुने क्षेत्रहरु | G5: गते
D6: खोल्ने समय | E6: बन्द गर्ने समय
A7: 1 | B7: चा.चा. टंकनाथ निरौला | C7: 9849809155 | D7: बिहान ६ बजे | E7: बिहान 8 बजे | F7: कर्म मार्ग, पुरानो वडा कार्यालय | G7: ३,७,११,१५,१९,२३,२७
D8: =E7 -> बिहान 8 बजे | E8: बिहान 10 बजे | F8: मिलन टोल
D9: =E8 -> बिहान 10 बजे | E9: दिउसो 12 सम्म | F9: जेम्स स्कुल लाइन,
D10: =E9 -> दिउसो 12 सम्म | E10: दिउसो 2 देखि | F10: सिटि ड्राइभिंग(जागरण मार्ग),खुमल मार्ग
D11: बेलुका 5 बजे | E11: बेलुका 8 बजे | F11: जुगल लाइन,जेम्स अगाडि पुरानो लाइन | G11: ४,८,१२,१६,२०,२४,२८
D12: बेलुका 8 बजे | E12: राती १२:०० बजे | F12: उज्यालो टोल,महादेव खोला,अनन्त मार्ग, | G12: ४,८,१२,१६,२०,२४,२८
D13: बेलुका 5 बजे | E13: राती १२:०० बजे | F13: गैरीगाउँ, शान्तिनगर माइक्रोपार्क,जेम्स अगाडि नयाँ लाइन ,मिलनबस्ति | G13: १,५,९,१३,१७,२१,२५,२९
D14: बेलुका 5 बजे | E14: राती १२:०० बजे | F14: एरावत टोल;,संगम मार्ग ,अरुण टोल, पुरानो वडा कार्यालय, जागृति मार्ग, सिटि ड्राइभिंग सेन्टर सम्म | G14: २,६,१०,१४,१८,२२,२६,३०
D15: बेलुका 8 बजे | E15: राती १२:०० बजे | F15: समिति भवन, जनता ग्यारेज, ,संगम मार्ग , इसिमोड लाइन | G15: २,६,१०,१४,१८,२२,२६,३०
A17: द्रष्टव्य:
A18: 1 | B18: मेलम्चीबाट आउने पानीको मात्रामा कमी भएमा सोहीअनुसार माथि दिएको समय हेरफेर हुन सक्नेछ ।
A19: 2 | B19: ट्यांकमा पानी कम भएर वा विजुली नभएमा अर्को पालोमा मात्रै पानी वितरण हुनेछ ।

Sheet २०८२ (Tanka 15)
A1: काठमाण्डौ उपत्यका खानेपानी लिमिटेड
A2: ललितपूर शाखा कार्यालय
A3: खूमलटार SRT बाट खानेपानी वितरण हूने तालिका
A4: ='DMA 5 and 6'!A4 -> २०८३ असोज महिना
A6: सि.नं. | B6: चाबी चालक | C6: सम्पर्क नं. | D6: समय | F6: पानी वितरण हूने क्षेत्रहरु | G6: गते
D7: खोल्ने समय | E7: बन्द गर्ने समय
A8: 1 | B8: टंकनाथ निरौला अच्युत बस्नेत | C8: 9849809155 | D8: बिहान ८:०० बजे | E8: बिहान १२:०० बजे | F8: डाडा टोल, छिमेकी टोल,रामस्टोर, सम्पाङ् चोक (४") | G8: ३, ९, १५, २१, २७
D9: बिहान ८:०० बजे | E9: बिहान १०:०० बजे | F9: विशाल चोक, शिव चोक (८")
D10: बिहान १०:०० बजे | E10: बिहान १२:०० बजे | F10: नखिपोट , कान्तिनगर (८")
D11: बिहान १२:०० बजे | E11: दिउसो ३:०० बजे | F11: शान्तीनगर,बुद्ध मार्ग, गंगा जमुना चोक,फूलवारी मार्ग,राउत टोल (६")
D12: दिउसो २:०० बजे | E12: दिउसो ३:०० बजे | F12: गंगा जमुना चोक (2")
D13: दिउसो ३:०० बजे | E13: बेलुकी ५:०० बजे | F13: खुमल पूर्व (६")
D14: बिहान ८:०० बजे | E14: बिहान ११ बजे | F14: रमाईलो टार, लावती टोल, यलियन्स स्कुल वरपर,जननी मार्ग (८") | G14: २, ८, १४, २०, २६
D15: बिहान ११:०० बजे | E15: दिउसो १:०० बजे | F15: कन्चन मार्ग दक्षिण, श्रीकृष्ण टोल
D16: दिउसो १:०० बजे | E16: दिउसो ३:०० बजे | F16: कन्चन मार्ग पचिम,सुमिना मार्ग(४"),
D17: बिहान १२ बजे | E17: दिउसो ३:०० बजे | F17: शान्ति चोक माइक्रोपार्क
D18: दिउसो ३:०० बजे | E18: बेलुकी ५:०० बजे | F18: लोहा चोक,सुमिना मार्ग(२"),
D19: दिउसो ३:०० बजे | E19: बेलुकी ५:०० बजे | F19: शिव चोक नयाँ लाईन
A21: द्रष्टव्य:
A22: १. मेलम्चीबाट आउने पानीको मात्रामा कमी भएमा सोहीअनुसार माथि दिएको समय हेरफेर हुन सक्नेछ ।
A23: २. ट्यांकमा पानी कम भएर वा विजु‌ली नभएमा अर्को पालोमा मात्रै पानी वितरण हुनेछ ।
A24: पानी वितरण सँग सम्बन्धित अन्य गुनासोको लागि सम्पर्क व्यक्ति : ई. सुरज खनाल(९७६७२३७६३८), स.प्रा.अ निवास गुरागाईं (९८५२०५४२४४), ओ.सी रोशन शर्मा (९८६४४३४९०३)

Sheet tanka
A1: काठमाण्डौ उपत्यका खानेपानी लिमिटेड
A2: ललितपुर शाखा कार्यालय
A3: खूमलटार SRT बाट खानेपानी वितरण हूने तालिका
A4: ='DMA 5 and 6'!A4 -> २०८३ असोज महिना
A5: सि.नं. | B5: चाबी चालक | C5: सम्पर्क नं. | D5: समय | F5: पानी वितरण हुने क्षेत्रहरु | G5: गते
D6: खोल्ने समय | E6: बन्द गर्ने समय
A7: 1 | B7: चा.चा. टंकनाथ निरौला | C7: 9849809155 | D7: बेलुका 5 बजे | E7: राती ०९:०० बजे | F7: पुरानो वडा कार्यालय,खुमल मार्ग,इसिमोड लाइन,इसिमोड नयाँ लाइन,शान्तिनगर माइक्रोपार्क | G7: ४, १०, १६, २२, २८
D8: बेलुका 5 बजे | E8: राती ०९:०० बजे | F8: सिटि ड्राइभिंग(जागरण मार्ग), | G8: ५, ११, १७, २३, २९
D9: बेलुका 5 बजे | E9: राती ०९:०० बजे | F9: जुगल लाइन,जेम्स अगाडि पुरानो लाइन | G9: ५, ११, १७, २३, ३०
D10: बेलुका 5 बजे | E10: राती ०९:०० बजे | F10: उज्यालो टोल,महादेव खोला,अनन्त मार्ग, | G10: ५, ११, १७, २३, ३१
D11: बेलुका 5 बजे | E11: राती ०९:०० बजे | F11: गैरीगाउँ, जेम्स अगाडि नयाँ लाइन ,मिलनबस्ति, कर्म मार्ग, जेम्स स्कुल लाइन, | G11: ६, १२, १८, २४, ३०
D12: बेलुका 5 बजे | E12: राती ०९:०० बजे | F12: एरावत टोल;,संगम मार्ग ,अरुण टोल, सिटि ड्राइभिंग सेन्टर, जागृति मार्ग सम्म | G12: २, ८, १४, २०, २६
D13: बेलुका 5 बजे | E13: राती ०९:०० बजे | F13: समिति भवन, जनता ग्यारेज, ,संगम मार्ग , मिलन टोल | G13: ३, ९, १५, २१, २७
A15: द्रष्टव्य:
A16: 1 | B16: मेलम्चीबाट आउने पानीको मात्रामा कमी भएमा सोहीअनुसार माथि दिएको समय हेरफेर हुन सक्नेछ ।
A17: 2 | B17: ट्यांकमा पानी कम भएर वा विजुली नभएमा अर्को पालोमा मात्रै पानी वितरण हुनेछ ।
A18: पानी वितरण सँग सम्बन्धित अन्य गुनासोको लागि सम्पर्क व्यक्ति : ई. सुरज खनाल(९७६७२३७६३८), स.प्रा.अ निवास गुरागाईं (९८५२०५४२४४), ओ.सी रोशन शर्मा (९८६४४३४९०३)

Sheet binod (23-24)
A1: काठमाण्डौ उपत्यका खानेपानी लिमिटेड
A2: ललितपुर शाखा कार्यालय
A3: चापागाउँबाट खानेपानी वितरण हूने तालिका
A4: ='DMA 5 and 6'!A4 -> २०८३ असोज महिना
A5: सि.नं. | B5: चाबी चालक | C5: सम्पर्क नं. | D5: समय | E5: पानी वितरण हुने क्षेत्रहरु | F5: गते
A6: 1 | B6: बिनोद बस्नेत देवेन्द्र के.सी | C6: 9869362402 | D6: दिउसो ३:०० | E6: बाहुन टोल | F6: =tanka!G12 -> २, ८, १४, २०, २६
D7: साँझ ५:00 | E7: गा.वि.स. भवन (वडा-२४) | F7: =F6 -> २, ८, १४, २०, २६
D8: दिउसो ३:०० | E8: भीमसेन पिपलबोट, पशुपति टोल | F8: =tanka!G7 -> ४, १०, १६, २२, २८
D9: साँझ ५:00 | E9: भगवती टोल,नागदह गेट | F9: =F8 -> ४, १०, १६, २२, २८
D10: साँझ ५:00 | E10: सेतो गणेश | F10: =tanka!G8 -> ५, ११, १७, २३, २९
D11: दिउसो ३:०० | E11: पिपल बोट | F11: =F10 -> ५, ११, १७, २३, २९
D12: साँझ ५:00 | E12: टेवा | F12: =F11 -> ५, ११, १७, २३, २९
D13: साँझ ५:00 | E13: ठुलो पधेरो,इनार चोक | F13: =tanka!G13 -> ३, ९, १५, २१, २७
D14: साँझ ५:00 | E14: धापाहाइट | F14: १, ७, १३, १९, २५, ३१
B15: पानी वितरण सँग सम्बन्धित अन्य गुनासोको लागि सम्पर्क व्यक्ति : ई. सुरज खनाल(९७६७२३७६३८), स.प्रा.अ निवास गुरागाईं (९८५२०५४२४४), ओ.सी रोशन शर्मा (९८६४४३४९०३)

Sheet Anish
A1: काठमाण्डौ उपत्यका खानेपानी लिमिटेड
A2: ललितपुर शाखा कार्यालय
A3: खूमलटार SRT बाट पुरानो लाईनमा खानेपानी वितरण हूने तालिका
A4: ='DMA 5 and 6'!A4 -> २०८३ असोज महिना
A5: सि.नं. | B5: चाबी चालक | C5: समय | E5: पानी वितरण हूने क्षेत्रहरु | F5: गते
C6: खोल्ने समय | D6: बन्द गर्ने समय
A7: 1 | B7: चा.चा.राजेन्द्र श्रेष्ठ प.अ.मधुकर विष्ट सू.भा.महेन्द्र काजी महर्जन (१२”) | C7: विहान ६:०० बजे | D7: राती ८:०० बजे आलोपालो मिलाएर १ घण्टा | E7: सर्वाङ्ग हस्पिटल, सेतू देवल | F7: 5,9,13,17,21,25,29
E8: ढूकूटी चोक, ज्वागल, वाग्मती तर्फ
E9: पूरानो कर कार्यालय, म्याक्स मिडिया
E10: पाटनढोका बजार भित्र, अशोक हल तर्फ
E11: गणेश मंदिर, ललितपूर ईन्जिनियरिé कलेज
E12: गःछे ८” महापाल चोक सम्म
E13: गःछे २” रोड बहिर, नेपाल बैंक, सनराईज बैंक, गावाहाल
E14: तूम्वाहाल बाट भेलाछें, गावहाल चोक, कायाननी गल्ली
B15: चा.चा.टंक निरौला ओ.सि. धनन्जय कूमार हाथी (८”) | C15: विहान ११:०० बजे | D15: दिउसो २:०० बजे | E15: चाँपागाँउ दोबाटो, टूटेपानी, ताल्छिखेल | F15: ४,११,१८,२५
B16: चा.चा.रमेश अधिकारी सू.भा.महेन्द्र काजी महर्जन (१२”र२०”) | C16: दिउसो ३:०० बजे | D16: बेलुका ६:०० बजे | E16: नःटोल व्यापार पवर्धन जाने बाटो, नःटोल, त्रिपद्म वरपर | F16: ७,१४,२१,२८
C17: विहान 10:०० बजे | D17: दिउसो 1:०० बजे | E17: पूल्चोक कान्तिपुर FM Area | F17: ३,१०,१७,२४,३१
A18: 1 | B18: अनिश श्रेष्ठ ९८४३७६१११५ | C18: बिहान 5:00 | D18: बिहान 6:3० | E18: वडा नं १३ मार्ग, कुसुन्ती आदर्श मार्ग (१.५" लाइन र ३"), कुसुन्ती कुमारपिठ मार्ग(३") | F18: ='binod (23-24)'!F13 -> ३, ९, १५, २१, २७
C19: =D18 -> बिहान 6:3० | D19: बिहान ८:०० | E19: कुसुन्ती कुमारपिठ मार्ग(३" र २")
C20: बिहान ९:०० | D20: बिहान १०:3० | E20: कुसुन्ती मनकामना बोगटी मार्ग अगाडि(२")
C21: =D20 -> बिहान १०:3० | D21: दिउसो १२:०० | E21: कुसुन्ती मनकामना बोगटी मार्ग पछाडी(२")
C22: बिहान ९:०० | D22: बिहान १२:०० | E22: कुसुन्ती कुमार मन्दिर,डल्ले थकाली(२")
C23: बिहान 5:00 | D23: बिहान १०:०० | E23: गायेत्री पेट्रोल पम्प देखि नख्खु खोलासम्म(४")
C24: =D23 -> बिहान १०:०० | D24: दिउसो १२:०० | E24: कुसुन्ती आदर्श मार्ग पद्मा कोलोनी जाने बाटो(१.५")
C25: बिहान 5:00 | D25: बिहान १०:०० | E25: मिलिजुलि मार्ग(२")
A26: 2 | C26: बिहान 5:00 | D26: बिहान 6:3० | E26: कुसुन्ती हाइट मार्ग( वोर्ल्डलिंक अगाडी) (४" ), कुसुन्ती मजुवा मार्ग पश्चिम (३") ,रिंगरोड दक्षिण मार्ग (२")
C27: =D26 -> बिहान 6:3० | D27: बिहान ७:०० | E27: कुसुन्ती कल्धरा मार्ग(४")
C28: बिहान ७:३० | D28: बिहान ९:०० | E28: कुसुन्ती बोगटी मार्ग(३")
C29: =D28 -> बिहान ९:०० | D29: बिहान १०:3० | E29: कुसुन्ती हाईट आगाडी(३")
C30: दिउसो १२:०० | D30: दिउसो १:०० | E30: कुसुन्ती हाईट (४")
C31: =D30 -> दिउसो १:०० | D31: दिउसो २:०० | E31: कुसुन्ती पंचेश्वर मार्ग (२")
C32: =D31 -> दिउसो २:०० | D32: दिउसो ३:०० | E32: पाचौथली गणेश कुसुन्ती एरिया(२")
A33: पानी वितरण सँग सम्बन्धित अन्य गुनासोको लागि सम्पर्क व्यक्ति : ई. सुरज खनाल(९७६७२३७६३८), स.प्रा.अ निवास गुरागाईं (९८५२०५४२४४), ओ.सी रोशन शर्मा (९८६४४३४९०३)

Sheet old line
A1: काठमाण्डौ उपत्यका खानेपानी लिमिटेड
A2: ललितपूर शाखा कार्यालय
A3: खूमलटार SRT बाट पुरानो लाईनमा खानेपानी वितरण हूने तालिका
A4: २०८२ अशोज महिना
A5: सि.नं. | B5: चाबी चालक | C5: सम्पर्क नं. | D5: समय | F5: पानी वितरण हूने क्षेत्रहरु | G5: गते
D6: खोल्ने समय | E6: बन्द गर्ने समय
A7: 1 | B7: चा.चा.राजेन्द्र श्रेष्ठ प.अ.मधुकर विष्ट सू.भा.महेन्द्र काजी महर्जन (१२”) | C7: 9860484972 9841983763 9841592400 | D7: विहान ६:०० बजे | E7: राती ८:०० बजे आलोपालो मिलाएर १ घण्टा | F7: सर्वाङ्ग हस्पिटल, सेतू देवल | G7: 5,9,13,17,21,25,29
F8: ढूकूटी चोक, ज्वागल, वाग्मती तर्फ
F9: पूरानो कर कार्यालय, म्याक्स मिडिया
F10: पाटनढोका बजार भित्र, अशोक हल तर्फ
F11: गणेश मंदिर, ललितपूर ईन्जिनियरिé कलेज
F12: गःछे ८” महापाल चोक सम्म
F13: गःछे २” रोड बहिर, नेपाल बैंक, सनराईज बैंक, गावाहाल
F14: तूम्वाहाल बाट भेलाछें, गावहाल चोक, कायाननी गल्ली
B15: चा.चा.बिनोद बस्नेत | C15: 9869362402 | D15: विहान ११:०० बजे | E15: दिउसो २:०० बजे | F15: चाँपागाँउ दोबाटो, टूटेपानी, ताल्छिखेल | G15: हरेक बुधबार
B16: चा.चा.रमेश अधिकारी (१२”र२०”) | C16: 9841619823 | D16: दिउसो ३:०० बजे | E16: बेलुका ६:०० बजे | F16: नःटोल व्यापार पवर्धन जाने बाटो, नःटोल, त्रिपद्म वरपर | G16: हरेक सनिबार
D17: विहान 10:०० बजे | E17: दिउसो 1:०० बजे | F17: पूल्चोक कान्तिपुर FM Area | G17: हरेक मंगलबार
B18: चा.चा.जीवन माझी चा.चा. विक्रम राउत (१२”र२०”) | C18: 9861666829 9851312244 | D18: विहान १०:०० बजे | E18: विहान ११:३० बजे | F18: कूपण्डोल, हनूमानस्थान, रुपक मेमोरियल, भजनमण्डल, प्रसाई घाट, अमरशिशू स्कुल | G18: हरेक सुक्रवार
D19: विहान ११:३० बजे | E19: विहान १:०० बजे | F19: बखूण्डोल, गणेशस्थान, कोरियन दूतावास, ब्रिटिस स्कूल, अरुण थापा चोक ।
D20: विहान १:०० बजे | E20: दिउसो २:३० बजे | F20: शूभतारा, कालिकास्थान
D21: दिउसो २:३० बजे | E21: दिउसो ४:०० बजे | F21: सानेपा चोक, रेडियण्ट स्कुल
D22: दिउसो ४:०० बजे | E22: दिउसो ५:३० बजे | F22: गूसिंङ्गाल, राम मंदिर, साँचल
D23: दिउसो ५:३० बजे | E23: राती ७:०० बजे | F23: ढोका टोल,क्याम्पेन कलेज वरपर, लिलाघर,कूमारीस्थान
A24: 4 | B24: चा.चा.अनिश श्रेष्ठ | C24: 9808825486 | D24: बिहान ६ बजे | E24: दिउसो २:०० बजे | F24: कुसुन्ती सबै लाईन (आलोपालो मिलाएर १ -१.५ घण्टा) | G24: =G16 -> हरेक सनिबार
A25: 5 | B25: चा.चा.दीपक मगर | C25: 9808762250 | D25: बिहान ६ बजे | E25: दिउसो २:०० बजे | F25: बागडोल सबै लाईन (आलोपालो मिलाएर १ -१.५ घण्टा)
A26: 6 | B26: चा.चा.सुदीप पुडासैनी | C26: 9849034297 | D26: बिहान ६ बजे | E26: दिउसो २:०० बजे | F26: मेडीसिटीदेखि भङ्ज़ाङ सम्मका सबै लाईन (आलोपालो मिलाएर १ -१.५ घण्टा)

Sheet old line (2)
A1: काठमाण्डौ उपत्यका खानेपानी लिमिटेड
A2: ललितपूर शाखा कार्यालय
A3: खूमलटार SRT बाट पुरानो लाईनमा खानेपानी वितरण हूने तालिका
A4: २०८२ असोज महिना
A5: सि.नं. | B5: चाबी चालक | C5: सम्पर्क नं. | D5: समय | F5: पानी वितरण हूने क्षेत्रहरु | G5: गते
D6: खोल्ने समय | E6: बन्द गर्ने समय
A7: 1 | B7: चा.चा.राजेन्द्र श्रेष्ठ प.अ.मधुकर विष्ट सू.भा.महेन्द्र काजी महर्जन (१२”) | C7: 9860484972 9841983763 9841592400 | D7: विहान ६:०० बजे | E7: राती ८:०० बजे आलोपालो मिलाएर १ घण्टा | F7: सर्वाङ्ग हस्पिटल, सेतू देवल | G7: 5,9,13,17,21,25,29
F8: ढूकूटी चोक, ज्वागल, वाग्मती तर्फ
F9: पूरानो कर कार्यालय, म्याक्स मिडिया
F10: पाटनढोका बजार भित्र, अशोक हल तर्फ
F11: गणेश मंदिर, ललितपूर ईन्जिनियरिé कलेज
F12: गःछे ८” महापाल चोक सम्म
F13: गःछे २” रोड बहिर, नेपाल बैंक, सनराईज बैंक, गावाहाल
F14: तूम्वाहाल बाट भेलाछें, गावहाल चोक, कायाननी गल्ली
B15: चा.चा.टंक निरौला ओ.सि. धनन्जय कूमार हाथी (८”) | C15: 9849809155 9840572259 | D15: विहान ११:०० बजे | E15: दिउसो २:०० बजे | F15: चाँपागाँउ दोबाटो, टूटेपानी, ताल्छिखेल | G15: ४,११,१८,२५
B16: चा.चा.रमेश अधिकारी सू.भा.महेन्द्र काजी महर्जन (१२”र२०”) | C16: 9841619823 9841592400 | D16: दिउसो ३:०० बजे | E16: बेलुका ६:०० बजे | F16: नःटोल व्यापार पवर्धन जाने बाटो, नःटोल, त्रिपद्म वरपर | G16: ७,१४,२१,२८
D17: विहान 10:०० बजे | E17: दिउसो 1:०० बजे | F17: पूल्चोक कान्तिपुर FM Area | G17: ३,१०,१७,२४,३१
B18: चा.चा.किरण महर्जन (८”) | C18: 9841904106 | D18: विहान ५:०० बजे | E18: दिउसो २:०० बजे | F18: सातदोबाटो, खूमलहाईट, हात्तिवन, प्रिमियर स्कुल, बि.एण्ड.बि.बलेज,जय श्रीराम टोल, काली मार्ग, गैरी मार्ग, सिभिल होम्स | G18: हरेक बिहिबार
D19: विहान ८:०० बजे | E19: विहान ९:०० बजे | F19: बोधिग्राम, बोधिग्राम नयाँ लाईन, सुर्यविनायक
D20: विहान ५:०० बजे | E20: राती ८:०० बजे | F20: भेल्पा दक्षिण
F21: भल्पा नयाँ लाईन उत्तर
F22: शिवनगर
F23: भेल्पा पूरानो लाइन,
F24: शसि दिदीको लाइन
F25: ग्वार्को बजार नयाँ लाइन
F26: सि.डि.ओ.लाईन
F27: अस्थानगर
A28: 3 | B28: चा.चा.किरण महर्जन (८”) | C28: 9841904106 | D28: विहान ५:०० बजे | E28: बेलुकी ५:३० बजे आलोपालो मिलाएर | F28: ग्वार्को, वाफल,महल ब्यान्क्वेट, पुरानो गुण हल लाईन, हरित कोलोनी ,पाको महादेव मार्ग,बालकुमारी,म्यखुमार्ग | G28: हरेक सुक्रवार

Sheet २०८२
A1: काठमाण्डौ उपत्यका खानेपानी लिमिटेड
A2: ललितपूर शाखा कार्यालय
A3: खूमलटार SRT बाट खानेपानी वितरण हूने तालिका
A4: असोज महिना
A6: सि.नं. | B6: चाबी चालक | C6: सम्पर्क नं. | D6: समय | F6: पानी वितरण हूने क्षेत्रहरु | G6: गते
D7: खोल्ने समय | E7: बन्द गर्ने समय
A8: 1 | B8: रमेश थापा विनोद बस्नेत ८" | C8: 9841783108 9869362402 | D8: बिहान ५:०० बजे | E8: बिहान १० बजे | F8: डाडा टोल, कान्तिनगर, विशाल चोक, छिमेकी टोल,सम्पाङ् चोक, नखिपोट, शिव चोक (४") | G8: ४,८,१२,१६,२०,२४,२८
D9: बिहान १० बजे | E9: दिउसो ३:०० बजे | F9: रामस्टोर, शान्ति चोक, लोहा चोक, सुनिता मार्ग, फूलवारी मार्ग, महत टोल | G9: २,६,१०,१४,१८,२२,२६,३०
D10: बिहान ५:०० बजे | E10: बिहान १० बजे | F10: रमाईलो तार, लावती टोल, यलियन्स स्कुल वरपर,जननी मार्ग | G10: २,६,१०,१४,१८,२२,२६,३०
D11: बिहान १० बजे | E11: दिउसो ३:०० बजे | F11: शान्तीनगर,बुद्ध मार्ग, गंगा जमुना चोक (६") | G11: ४,८,१२,१६,२०,२४,२८
A12: द्रष्टव्य:
A13: १. मेलम्चीबाट आउने पानीको मात्रामा कमी भएमा सोहीअनुसार माथि दिएको समय हेरफेर हुन सक्नेछ ।
A14: २. ट्यांकमा पानी कम भएर वा विजु‌ली नभएमा अर्को पालोमा मात्रै पानी वितरण हुनेछ ।

Sheet meter installation
C1: काठमाण्डौ उपत्यका खानेपानी लिमिटेड
C2: ललितपुर शाखा कार्यालय
C3: मेलम्चीको नया लाईनमा METER जडानको लागि सम्पर्क व्यक्ति
A5: सं.नं | B5: DMA | C5: DMA भित्र पर्ने स्थान हरु | D5: सम्पर्क व्यक्ति | E5: सम्पर्क नम्बर
A6: 1 | B6: 5.1 | C6: ग्वार्को देखि बालकुमारी, त्यागल, सिन्पा मार्ग, सरस्वती मार्ग, कसुम वरपर, गुइटा, क्वार्को, च्यासल मार्ग, चपट टोल | D6: =D11 -> नितेश यादव
A7: 2 | B7: 5.2 | C7: नाग बहाल,छाया बहाल,छा बहाल,गाबहाल,पाटन ढोका,पूल्चोक,चाकुपट,शंखमूल,मणि मार्ग,ज्वागल,दरवार टोल | D7: अमर चौधरी | E7: 9801808109
A8: 3 | B8: 6.1 | C8: सातदोबाटो, रिन्ङरोड भित्र, माटीमार्ग, नरविनायक मार्ग, ताल्छिखेल–,महालक्ष्मी मार्ग, लखनखेल अशोक स्तुपा एरिया, सिंचाहिटी, दिपावली मार्ग, थापा गल्ली, ज्याठा मार्ग, कूमा गल्ली, सुमन्गल गल्ली, ओकूवाहाल, कनिवहाल | D8: ईं सिकेन्द्र गोईत | E8: 9801233255
A9: 4 | B9: 6.2 | C9: थसीखेल मार्ग, दक्षिणकाली मार्ग, कुमारीमाटी, दामोदर मार्ग, नःटोल, पूर्णचण्डी मार्ग, मानभवनपाटन हस्पिटल, सि.डि.ओ. कार्यालय वरिपरी, | D9: ईं सिकेन्द्र गोईत | E9: 9801233255
A10: 5 | B10: 8.1 | C10: सदर चिडिया खाना, शान्ति चोक मार्ग, भानिमंडल मार्ग, एकान्त कुना मार्ग, होटेल शालिग्राम,दमकल चोक, कान्तिपुर यफ.एम. तल पुल्चोक, झम्सिखेल, चौधरी ग्रुप, ज्ञ्यानोदय पुस्तकालय, सम्पदा स्कुल ओरपर,बखुन्ढोलको मार्ग ,बखुन्ढोल बिगमार्ट ,कानदेवता स्थान, हनुमानथान निटिंगेल स्कुल,गुर्सिंगाल मार्ग ओरपर,डोकाडोल,बखुन्ढोलको तेर्सो लाईन हुदै सुमित होटेल, किरण भवन | D10: राम कुमार पाहरी | E10: ९८४१६६१८३६
A11: 6 | B11: 8.2 | C11: रेडियन्ट, त्रिवेणी, बागमती करिडोर लाइन, यल मार्ग, राजतीर्थ मार्ग, नबिल बैंक,साँचल, सगरमाथा, विजय बस्ती, हेरिटेज, सानेपा चोक, सिकाली मार्ग, बिजयनगर मार्ग,साँचल देखी गणेश मन्दिर, प्याराडाइज स्कुल ,कुन्तु हिटी मार्ग, यू-टर्न,मनमोहन प्रतिष्ठान मार्ग, नर्सिङ क्याम्पस गल्ली,कालिका मन्दिर मार्ग, एभरेष्ट कलेज ,ठाडो ढुंङ्गा, मनकामना मार्ग, नयाँ कोलोनी मार्ग , सर्भिस ट्र्याक, रुडेश्वर, एसम्पसन चर्च, झमसिखेल ,प्राईम कोलोनी | D11: नितेश यादव | E11: 9801915123

Sheet tanka 
A1: काठमाण्डौ उपत्यका खानेपानी लिमिटेड
A2: ललितपूर शाखा कार्यालय
A3: खूमलटार SRT बाट खानेपानी वितरण हूने तालिका
A4: जेष्ठ महिनाको तालिका
A5: सि.नं. | B5: चाबी चालक | C5: सम्पर्क नं. | D5: समय | F5: पानी वितरण हूने क्षेत्रहरु | G5: गते
D6: खोल्ने समय | E6: बन्द गर्ने समय
A7: 3 | B7: टंक निरौला (८”) | C7: 9849801155 | D7: विहान ६:०० बजे | E7: विहान १०:0० बजे | F7: रामस्टोर,शान्तीनगर, शान्ति चोक,लोहा चोक, छिमेकी टोल, सूनिता मार्ग, फूलवारी मार्ग, | G7: 2,5,8,11,14,17,20,23,26,29
D8: विहान ६:०० बजे | E8: विहान १०:0० बजे | F8: डाडा टोल, कान्तिनगर ,बिशाल चोक,सम्पाङचोक , नखिपोट, शिव चोक | G8: 3,6,9,12,15,18,21,24,27,30
D9: विहान ६:०० बजे | E9: विहान १०:0० बजे | F9: रमाईलोटार, लावती टोल, यलियन्स स्कुल वरपर, जननी मार्ग | G9: 1,4,7,10,13,16,19,22,25,28,31
A10: द्रष्टव्य:
A11: 1 | B11: मेलम्चीबाट आउने पानीको मात्रामा कमी भएमा सोहीअनुसार माथि दिएको समय हेरफेर हुन सक्नेछ ।
A12: 2 | B12: टाँकमा पानी काम भएर वा बत्ति नभएमा अर्को पालोमा मात्रै पानी वितरण हुनेछ ।

Sheet nabaraj
A1: काठमाण्डौ उपत्यका खानेपानी लिमिटेड
A2: ललितपूर शाखा कार्यालय
A3: खूमलटार SRT बाट खानेपानी वितरण हूने तालिका
A4: जेष्ठ महिनाको तालिका
A5: सि.नं. | B5: चाबी चालक | C5: सम्पर्क नं. | D5: समय | F5: पानी वितरण हूने क्षेत्रहरु | G5: गते
D6: खोल्ने समय | E6: बन्द गर्ने समय
A7: 1 | B7: नवराज महर्जन सुर्य बस्नेत | C7: ९८६०९९२१२१ 9861799323 | D7: विहान 10:०० बजे | E7: विहान 12:०० बजे | F7: बाङ्गे धारा भर्ने | G7: 3,7,11,15,19,23,27,31
D8: विहान 12:०० बजे | E8: दिउसो 3:०० बजे | F8: चिबाहाल (नयाँ चाबी)
D9: दिउसो 3:०० बजे | E9: बेलूका 5:०० बजे | F9: चिबाहाल (पुरानो चाबी)
D10: विहान 10:०० बजे | E10: विहान 12:०० बजे | F10: बाङ्गे धारा भर्ने | G10: ४,८,१२,१६,२०,२४,२८
D11: विहान 12:०० बजे | E11: दिउसो 3:०० बजे | F11: सीमाको
D12: दिउसो 3:०० बजे | E12: बेलूका 5:०० बजे | F12: अरे नयाँ
D13: विहान 10:०० बजे | E13: विहान 12:०० बजे | F13: बालकुमारी नयाँ | G13: 5,13,21,29
D14: दिउसो 12:०० बजे | E14: बेलूका 5:०० बजे | F14: अरे पुरानो
D15: दिउसो 3:०० बजे | E15: बेलूका 5:०० बजे | F15: बालकुमारी नयाँ | G15: 9,17,25
D16: विहान 10:०० बजे | E16: दिउसो 3:०० बजे | F16: अरे पुरानो
A18: द्रष्टव्य:
A19: 1 | B19: मेलम्चीबाट आउने पानीको मात्रामा कमी भएमा सोहीअनुसार माथि दिएको समयभन्दा हेरफेर हुन सक्नेछ
A20: 2 | B20: टाँकमा पानी काम भएरमा अर्को पालोमा मात्रै पानी वितरण हुनेछ

Sheet jiban
A1: काठमाण्डौ उपत्यका खानेपानी लिमिटेड
A2: ललितपूर शाखा कार्यालय
A3: खूमलटार SRT बाट खानेपानी वितरण हूने तालिका
A4: २०८१/०8/03 गते देखि लागू हूने
A5: सि.नं. | B5: चाबी चालक | C5: सम्पर्क नं. | D5: समय | F5: पानी वितरण हूने क्षेत्रहरु | G5: गते
D6: खोल्ने समय | E6: बन्द गर्ने समय
A7: 3 | B7: चा.चा.जीवन माझी (१२”र२०”) | C7: 9861666829 | D7: विहान 7:०० बजे | E7: विहान 8:३० बजे | F7: अरुणथापा चोक
D8: विहान 8:३० बजे | E8: विहान 10:०० बजे | F8: ज्ञानोदय पुस्तकालय
D9: विहान 10:०० बजे | E9: विहान १1:३० बजे | F9: टिका स्कुल ,किरण भवन
D10: विहान १1:३० बजे | E10: दिउसो १:0० बजे | F10: हासपास मन्दिर पछाडि
D11: विहान 8:३० बजे | E11: विहान 10:०० बजे | F11: मनकामना मन्दिर माथि
D12: विहान 10:०० बजे | E12: विहान ११:3० बजे | F12: मनकामना मन्दिर तल
D13: विहान ११:3० बजे | E13: दिउसो 1:०० बजे | F13: पैयाँ पानी
D14: दिउसो 1:०० बजे | E14: दिउसो २:3० बजे | F14: केसीको लाईन
D15: बेलूका ५:३० बजे | E15: बेलूका 7:0० बजे | F15: भनिमण्डल,धोवीघाट डिलको लाईन
A16: द्रष्टव्य:
A17: 1 | B17: मेलम्चीबाट आउने पानीको मात्रामा कमी भएमा सोहीअनुसार माथि दिएको समयभन्दा हेरफेर हुन सक्नेछ
A18: 2 | B18: टाँकमा पानी काम भएरमा अर्को पालोमा मात्रै पानी वितरण हुनेछ
